BEGIN:VCALENDAR
VERSION:2.0
PRODID:-//eventon.com NONSGML v1.0//EN
CALSCALE:GREGORIAN
METHOD:PUBLISH
BEGIN:VEVENT
UID:69e734fe97ae0
DTSTAMP:20260421T082742Z
DTSTART:20230810
DTEND:20230811
LOCATION:Boise Center 850 West Front Street\,  Boise\,  Idaho
SUMMARY:Western Partnerships Conference on Human Services
DESCRIPTION:The Western Partnerships Conference on Human Services provides 
 quality disability and mental health training to human service professional
 s\,  teachers\,  counselors\,  parents\,  self advocates and community memb
 ers who serve and support individuals with developmental disabilities and m
 ental illness. The conference takes place at the Boise Center on August 10t
 h from 8:00[..]\nhttps://riseservicesincid.org/news/events/western-partners
 hips-conference-on-human-services/
URL:https://riseservicesincid.org/news/events/western-partnerships-conference-on-human-services/
END:VEVENT
END:VCALENDAR